BEGIN:VCALENDAR
VERSION:2.0
PRODID:-//Houston Focus on Concerns for Women - ECPv6.15.17//NONSGML v1.0//EN
CALSCALE:GREGORIAN
METHOD:PUBLISH
X-ORIGINAL-URL:https://hfcw.org
X-WR-CALDESC:Events for Houston Focus on Concerns for Women
REFRESH-INTERVAL;VALUE=DURATION:PT1H
X-Robots-Tag:noindex
X-PUBLISHED-TTL:PT1H
BEGIN:VTIMEZONE
TZID:UTC
BEGIN:STANDARD
TZOFFSETFROM:+0000
TZOFFSETTO:+0000
TZNAME:UTC
DTSTART:20230101T000000
END:STANDARD
END:VTIMEZONE
BEGIN:VEVENT
DTSTART;TZID=UTC:20241030T111500
DTEND;TZID=UTC:20241030T130000
DTSTAMP:20260424T131917
CREATED:20231227T000439Z
LAST-MODIFIED:20240501T224507Z
UID:10000118-1730286900-1730293200@hfcw.org
SUMMARY:A Transfomative Life: From Medicine to Sculptor
DESCRIPTION:PROGRAM \nFrom missionary through medicine to multimedia artist\, learn how Carrie transformed herself. Overcoming obstacles early in life and during her education\, she persevered and became a physician’s assistant. To maintain her contact with the medical field while raising her children she worked from home as a medical transcriptionist. All the while her interest in art expanded. She took classes and taught herself many techniques. Today Carrie continues to expand her skills\, use different materials\, and explore new ways to express her artistic vision. You will view some examples of her work. \nSPEAKER \n\n\n\n\n\n\n\n\n\n  \nCarrie Olsen is a multi-media artist but primarily a sculptor. Working in ceramic\, metal\, cement\, wood\, and found materials\, as well as 2D materials. She has taken classes in the US and France. Olsen also studied forensic facial reconstruction. She explains\, “It really is an extension of the way I create portraits\, but the skull is already there for you. So half the work is already done.” \nHer medical training provided a knowledge of anatomy that lends itself to figurative work. These pieces can be found in collections in the US\, Middle East\, and Japan. This work includes portraits of Sir Walter Lindal of Lindal Cedar Homes\, Joe Bob Briggs of television notoriety\, and Kaoru Iwamoto\, the renowned Japanese Go master\, among others. Olsen often uses a technique of her own creation that fuses molten aluminum to clay figures\, an unpredictable process\, yielding unique texture and form. \nTo see more of Olsen’s work visit CkOlsenSculptor.com.\n\n\n\n 
URL:https://hfcw.org/event/sculptor/
LOCATION:Sorrento Italian Restaurant\, 415 Westheimer Road\, Suite 106\, Houston\, TX\, 77006\, United States
CATEGORIES:Monthly Meeting
ORGANIZER;CN="Mary Abshier":MAILTO:info@hfcw.org
GEO:29.7442261;-95.3868489
X-APPLE-STRUCTURED-LOCATION;VALUE=URI;X-ADDRESS=Sorrento Italian Restaurant 415 Westheimer Road Suite 106 Houston TX 77006 United States;X-APPLE-RADIUS=500;X-TITLE=415 Westheimer Road\, Suite 106:geo:-95.3868489,29.7442261
END:VEVENT
END:VCALENDAR