BEGIN:VCALENDAR
VERSION:2.0
PRODID:-//Houston Focus on Concerns for Women - ECPv6.15.17//NONSGML v1.0//EN
CALSCALE:GREGORIAN
METHOD:PUBLISH
X-WR-CALNAME:Houston Focus on Concerns for Women
X-ORIGINAL-URL:https://hfcw.org
X-WR-CALDESC:Events for Houston Focus on Concerns for Women
REFRESH-INTERVAL;VALUE=DURATION:PT1H
X-Robots-Tag:noindex
X-PUBLISHED-TTL:PT1H
BEGIN:VTIMEZONE
TZID:UTC
BEGIN:STANDARD
TZOFFSETFROM:+0000
TZOFFSETTO:+0000
TZNAME:UTC
DTSTART:20240101T000000
END:STANDARD
END:VTIMEZONE
BEGIN:VEVENT
DTSTART;TZID=UTC:20250528T111500
DTEND;TZID=UTC:20250528T130000
DTSTAMP:20260424T033029
CREATED:20241219T192404Z
LAST-MODIFIED:20250521T214609Z
UID:10000127-1748430900-1748437200@hfcw.org
SUMMARY:An Exciting Way to Make Your Mark
DESCRIPTION:PROGRAM DETAILS\n			\n				\n				\n				\n				\n				Innovation is a process — a people-oriented process that gives you the thrill of creating something new and useful. As long as your brain is still working\, you can experience the excitement of being an innovator\, whether that is making small improvements in a system or coming up with a completely new product. The process is the same\, starting with ideation\, naming\, drawing\, feature design\, prototyping\, and marketing. Jeanne will share some of her own innovations and will help you get started on your next fabulous idea to bring it to fruition. \n			\n				\n				\n				\n				\n				ABOUT THE SPEAKER\n			\n			\n				\n				\n				\n				\n			\n				\n				\n				\n				\n				\n				\n				\n				\n				\n				\n				\n			\n			\n				\n				\n				\n				\n				\n				\n				\n				\n				\n				Jeanne Perdue grew up in LeRoy\, NY\, where Jell-O was invented. She was Salutatorian of the Class of ‘76 and editor of the school newsletter. She received a BS degree in chemistry from the State University of New York at Albany. She started her career as a chemist at the Texaco Research Laboratories in Bellaire\, Texas. Before Google was invented she conducted research and literature searches at the Texaco Library. Jeanne then covered drilling and information technology as an oil and gas journalist for Hart’s E&P magazine. She launched the award-winning magazine: Upstream Technology. She is now a technical writer at Occidental Petroleum\, preparing field development plans\, maintenance and operations procedures\, technical papers\, and concession proposals for the Middle East Support Team. \nA Distinguished Member of the Society of Petroleum Engineers\, Jeanne has been an active volunteer and was Chair of the SPE’s Gulf Coast Section in 2014. Today she serves on the SPE Distinguished Lecturer Committee and the Business Management and Leadership Committee. A staunch supporter of education\, Jeanne was elected to the Alief ISD school board in the 90s and was president of the Alief ISD Education Foundation for 10 years. Today she serves on the board of the Houston Community College Foundation\, the UH Petroleum Engineering Advisory Board\, and the FHPW Educational Foundation. She is a past president of Houston Focus on Concerns for Women.
URL:https://hfcw.org/event/make-your-mark/
LOCATION:Sorrento Italian Restaurant\, 415 Westheimer Road\, Suite 106\, Houston\, TX\, 77006\, United States
CATEGORIES:Monthly Meeting
ORGANIZER;CN="Mary Abshier":MAILTO:info@hfcw.org
GEO:29.7442261;-95.3868489
X-APPLE-STRUCTURED-LOCATION;VALUE=URI;X-ADDRESS=Sorrento Italian Restaurant 415 Westheimer Road Suite 106 Houston TX 77006 United States;X-APPLE-RADIUS=500;X-TITLE=415 Westheimer Road\, Suite 106:geo:-95.3868489,29.7442261
END:VEVENT
END:VCALENDAR