BEGIN:VCALENDAR
VERSION:2.0
PRODID:-//Houston Focus on Concerns for Women - ECPv6.15.17//NONSGML v1.0//EN
CALSCALE:GREGORIAN
METHOD:PUBLISH
X-ORIGINAL-URL:https://hfcw.org
X-WR-CALDESC:Events for Houston Focus on Concerns for Women
REFRESH-INTERVAL;VALUE=DURATION:PT1H
X-Robots-Tag:noindex
X-PUBLISHED-TTL:PT1H
BEGIN:VTIMEZONE
TZID:UTC
BEGIN:STANDARD
TZOFFSETFROM:+0000
TZOFFSETTO:+0000
TZNAME:UTC
DTSTART:20240101T000000
END:STANDARD
END:VTIMEZONE
BEGIN:VEVENT
DTSTART;TZID=UTC:20250924T111500
DTEND;TZID=UTC:20250924T130000
DTSTAMP:20260423T221335
CREATED:20241219T194355Z
LAST-MODIFIED:20250409T220740Z
UID:10000131-1758712500-1758718800@hfcw.org
SUMMARY:Never Say “No Way”
DESCRIPTION:PROGRAM DETAILS\n			\n				\n				\n				\n				\n				How one 8th-grade dropout became an internationally published novelist and a university instructor. \nIf asked\, most of us would say\, “No way can an 11-year-old child\, with a mom who doesn’t sew\, learn to create her own school clothes.”  Or “No way is a 14-year-old wife and mother\, who grew up eating sandwiches and take-out\, able to cook responsibly for her own family.” Or “No way will an 8th-grade drop-out with no additional schooling pass the Scholastic Aptitude Test for the University of Houston.” And “No way could that same person\, after taking only English 101\, Speech 101 and a drawing class\, create and manage her own graphic communications firm before becoming an internationally published author.” \nChris Rogers will reveal how – through self-study and determination – whatever you want to accomplish in life is possible. \n			\n				\n				\n				\n				\n				ABOUT THE SPEAKER\n			\n			\n				\n				\n				\n				\n			\n				\n				\n				\n				\n				\n				\n				\n				\n				\n				\n				\n			\n			\n				\n				\n				\n				\n				\n				\n				\n				\n				\n				Chris Rogers is a Texas novelist whose stories cover an array of genres\, including mystery\, suspense\, paranormal and science fiction. As a ghostwriter\, she has co-authored nonfiction\, she has published her own books and articles on writing\, and has spoken often at writing seminars. Her work has been included in Writer’s Digest Magazine\, Alfred Hitchcock Mystery Magazine\, various anthologies and a Writer’s Digest book – Crafting Dynamic Dialogue. Also\, an artist of abstract-expressionist paintings\, Chris’s work can often be found at Texas galleries. \nBefore moving to the countryside\, Chris was president of the National Association of Women Business Owners – Houston Chapter\, Mystery Writers of America – Houston Chapter\, and Houston Focus on Concerns for Women. She also served on the board of the Greater Houston Speakers Association. Chris’s work can be seen at chrisrogers.com.
URL:https://hfcw.org/event/never-say-no-way/
LOCATION:Sorrento Italian Restaurant\, 415 Westheimer Road\, Suite 106\, Houston\, TX\, 77006\, United States
CATEGORIES:Monthly Meeting
ORGANIZER;CN="Mary Abshier":MAILTO:info@hfcw.org
GEO:29.7442261;-95.3868489
X-APPLE-STRUCTURED-LOCATION;VALUE=URI;X-ADDRESS=Sorrento Italian Restaurant 415 Westheimer Road Suite 106 Houston TX 77006 United States;X-APPLE-RADIUS=500;X-TITLE=415 Westheimer Road\, Suite 106:geo:-95.3868489,29.7442261
END:VEVENT
END:VCALENDAR