BEGIN:VCALENDAR
VERSION:2.0
PRODID:-//Houston Focus on Concerns for Women - ECPv6.15.17//NONSGML v1.0//EN
CALSCALE:GREGORIAN
METHOD:PUBLISH
X-WR-CALNAME:Houston Focus on Concerns for Women
X-ORIGINAL-URL:https://hfcw.org
X-WR-CALDESC:Events for Houston Focus on Concerns for Women
REFRESH-INTERVAL;VALUE=DURATION:PT1H
X-Robots-Tag:noindex
X-PUBLISHED-TTL:PT1H
BEGIN:VTIMEZONE
TZID:UTC
BEGIN:STANDARD
TZOFFSETFROM:+0000
TZOFFSETTO:+0000
TZNAME:UTC
DTSTART:20250101T000000
END:STANDARD
END:VTIMEZONE
BEGIN:VEVENT
DTSTART;TZID=UTC:20260930T111500
DTEND;TZID=UTC:20260930T130000
DTSTAMP:20260423T193628
CREATED:20260125T210321Z
LAST-MODIFIED:20260125T210321Z
UID:10000143-1790766900-1790773200@hfcw.org
SUMMARY:TBA
DESCRIPTION:
URL:https://hfcw.org/event/tba-8/
LOCATION:Sorrento Italian Restaurant\, 415 Westheimer Road\, Suite 106\, Houston\, TX\, 77006\, United States
CATEGORIES:Monthly Meeting
ORGANIZER;CN="Mary Abshier":MAILTO:info@hfcw.org
GEO:29.7442261;-95.3868489
X-APPLE-STRUCTURED-LOCATION;VALUE=URI;X-ADDRESS=Sorrento Italian Restaurant 415 Westheimer Road Suite 106 Houston TX 77006 United States;X-APPLE-RADIUS=500;X-TITLE=415 Westheimer Road\, Suite 106:geo:-95.3868489,29.7442261
END:VEVENT
END:VCALENDAR