BEGIN:VCALENDAR
VERSION:2.0
PRODID:-//Houston Focus on Concerns for Women - ECPv6.15.17//NONSGML v1.0//EN
CALSCALE:GREGORIAN
METHOD:PUBLISH
X-WR-CALNAME:Houston Focus on Concerns for Women
X-ORIGINAL-URL:https://hfcw.org
X-WR-CALDESC:Events for Houston Focus on Concerns for Women
REFRESH-INTERVAL;VALUE=DURATION:PT1H
X-Robots-Tag:noindex
X-PUBLISHED-TTL:PT1H
BEGIN:VTIMEZONE
TZID:UTC
BEGIN:STANDARD
TZOFFSETFROM:+0000
TZOFFSETTO:+0000
TZNAME:UTC
DTSTART:20160101T000000
END:STANDARD
END:VTIMEZONE
BEGIN:VEVENT
DTSTART;TZID=UTC:20171229T140000
DTEND;TZID=UTC:20171229T160000
DTSTAMP:20260424T084117
CREATED:20170611T173044Z
LAST-MODIFIED:20170611T173044Z
UID:10000070-1514556000-1514563200@hfcw.org
SUMMARY:Afternoon Holiday Tea
DESCRIPTION:Please join us as we celebrate the holidays with our Afternoon Holiday Tea at Kiran’s Restaurant. \nCost: \n$40++\, final price of $53.30\, alcohol is extra. Separate checks will be provided. \nWhen RSVPing (note: deadline for this event is noon on 12-27-17)\, please indicate if you prefer the regular afternoon tea\, the vegetarian version\, or the gluten-free version. See Kiran’s Tea Menu.
URL:https://hfcw.org/event/december-2017-event-2/
CATEGORIES:Monthly Meeting
ORGANIZER;CN="Mary Abshier":MAILTO:info@hfcw.org
END:VEVENT
BEGIN:VEVENT
DTSTART;TZID=UTC:20171129T113000
DTEND;TZID=UTC:20171129T130000
DTSTAMP:20260424T084117
CREATED:20170611T172950Z
LAST-MODIFIED:20170926T211341Z
UID:10000067-1511955000-1511960400@hfcw.org
SUMMARY:My Brother's Keeper
DESCRIPTION:Program: My Brother’s Keeper \nAs the mentors\, teachers and leaders of the upcoming generations\, adults (unfortunately) do not always provide the best examples for children to emulate. Verdan McLean believes the teachers will receive joy when given the opportunity to teach children and see the lessons applied in their lives. After writing three books for adults\, she will talk about her motivation to write a book for children. \nSPEAKER\n\n\n\n\n\n\n\n\n\nVerdan McLean\, author and gospel singer\, is from the Island of Dominica in the West Indies\, where she attended Delices Government School. She retired from Baylor College of Medicine after working as a Laboratory Technician II for 15 years. McLean has been a featured guest speaker at the Women’s Convention at the Pickering Evangelical Church of God in Ontario\, Canada\, for the last 10 years. She is Pastor of I Am The Lord Ministries. McLean writes books\, poems\, plays and songs. She also enjoys creating and embellishing blankets\, pillows\, and lace handkerchiefs for adults and children. “My greatest desire is that people would live a righteous life.”\n\n\n\n 
URL:https://hfcw.org/event/november-2017-event/
LOCATION:Sorrento Italian Restaurant\, 415 Westheimer Road\, Suite 106\, Houston\, TX\, 77006\, United States
CATEGORIES:Monthly Meeting
ORGANIZER;CN="Mary Abshier":MAILTO:info@hfcw.org
GEO:29.7442261;-95.3868489
X-APPLE-STRUCTURED-LOCATION;VALUE=URI;X-ADDRESS=Sorrento Italian Restaurant 415 Westheimer Road Suite 106 Houston TX 77006 United States;X-APPLE-RADIUS=500;X-TITLE=415 Westheimer Road\, Suite 106:geo:-95.3868489,29.7442261
END:VEVENT
BEGIN:VEVENT
DTSTART;TZID=UTC:20171129T113000
DTEND;TZID=UTC:20171129T130000
DTSTAMP:20260424T084117
CREATED:20170611T172950Z
LAST-MODIFIED:20170611T172950Z
UID:10000068-1511955000-1511960400@hfcw.org
SUMMARY:My Brother's Keeper
DESCRIPTION:Program: My Brother’s Keeper \nAs the mentors\, teachers and leaders of the upcoming generations\, adults (unfortunately) do not always provide the best examples for children to emulate. Verdan McLean believes the teachers will receive joy when given the opportunity to teach children and see the lessons applied in their lives. After writing three books for adults\, she will talk about her motivation to write a book for children. \nSPEAKER\n\n\n\n\n\n\n\n\n\nVerdan McLean\, author and gospel singer\, is from the Island of Dominica in the West Indies\, where she attended Delices Government School. She retired from Baylor College of Medicine after working as a Laboratory Technician II for 15 years. McLean has been a featured guest speaker at the Women’s Convention at the Pickering Evangelical Church of God in Ontario\, Canada\, for the last 10 years. She is Pastor of I Am The Lord Ministries. McLean writes books\, poems\, plays and songs. She also enjoys creating and embellishing blankets\, pillows\, and lace handkerchiefs for adults and children. “My greatest desire is that people would live a righteous life.”\n\n\n\n 
URL:https://hfcw.org/event/november-2017-event-2/
LOCATION:Sorrento Italian Restaurant\, 415 Westheimer Road\, Suite 106\, Houston\, TX\, 77006\, United States
CATEGORIES:Monthly Meeting
ORGANIZER;CN="Mary Abshier":MAILTO:info@hfcw.org
GEO:29.7442261;-95.3868489
X-APPLE-STRUCTURED-LOCATION;VALUE=URI;X-ADDRESS=Sorrento Italian Restaurant 415 Westheimer Road Suite 106 Houston TX 77006 United States;X-APPLE-RADIUS=500;X-TITLE=415 Westheimer Road\, Suite 106:geo:-95.3868489,29.7442261
END:VEVENT
BEGIN:VEVENT
DTSTART;TZID=UTC:20171025T113000
DTEND;TZID=UTC:20171025T130000
DTSTAMP:20260424T084117
CREATED:20170611T172821Z
LAST-MODIFIED:20170611T172821Z
UID:10000066-1508931000-1508936400@hfcw.org
SUMMARY:The Glass Ceiling – Cracks and Chips\, But Still There
DESCRIPTION: Although some progress has been made with women reaching the uppermost levels of leadership in government and business\, we still have a long way to go before we have equitable representation at the table. You will learn of the facts and figures\, successes\, and failures\, and discover ways each of us can promote the idea that women can lead as well as men\, although perhaps with a different style.\nSPEAKER\n\n\n\n\n\n\n\n \n\nJeanne Perdue received a BS degree in chemistry from the State University of New York at Albany. She started her career as a chemist at the Texaco Research Laboratories in Bellaire\, then became an oil and gas journalist for industry magazines. She is now a technical writer at Occidental Petroleum. A Distinguished Member of the Society of Petroleum Engineers\, Perdue has served as Gulf Coast Section Chair and an SPE Distinguished Lecturer. An active supporter of education\, she served on the Alief ISD school board\, the Alief Education Foundation\, and on industry advisory boards for HCC and UH.\n\n\n\n 
URL:https://hfcw.org/event/october-2017-event-2/
LOCATION:Sorrento Italian Restaurant\, 415 Westheimer Road\, Suite 106\, Houston\, TX\, 77006\, United States
CATEGORIES:Monthly Meeting
ORGANIZER;CN="Mary Abshier":MAILTO:info@hfcw.org
GEO:29.7442261;-95.3868489
X-APPLE-STRUCTURED-LOCATION;VALUE=URI;X-ADDRESS=Sorrento Italian Restaurant 415 Westheimer Road Suite 106 Houston TX 77006 United States;X-APPLE-RADIUS=500;X-TITLE=415 Westheimer Road\, Suite 106:geo:-95.3868489,29.7442261
END:VEVENT
BEGIN:VEVENT
DTSTART;TZID=UTC:20171025T113000
DTEND;TZID=UTC:20171025T130000
DTSTAMP:20260424T084117
CREATED:20170611T172821Z
LAST-MODIFIED:20171023T144938Z
UID:10000075-1508931000-1508936400@hfcw.org
SUMMARY:The Glass Ceiling – Cracks and Chips\, But Still There
DESCRIPTION: Although some progress has been made with women reaching the uppermost levels of leadership in government and business\, we still have a long way to go before we have equitable representation at the table. You will learn of the facts and figures\, successes\, and failures\, and discover ways each of us can promote the idea that women can lead as well as men\, although perhaps with a different style.\nSPEAKER\n\n\n\n\n\n\n\n \n\nJeanne Perdue received a BS degree in chemistry from the State University of New York at Albany. She started her career as a chemist at the Texaco Research Laboratories in Bellaire\, then became an oil and gas journalist for industry magazines. She is now a technical writer at Occidental Petroleum. A Distinguished Member of the Society of Petroleum Engineers\, Perdue has served as Gulf Coast Section Chair and an SPE Distinguished Lecturer. An active supporter of education\, she served on the Alief ISD school board\, the Alief Education Foundation\, and on industry advisory boards for HCC and UH.\n\n\n\n 
URL:https://hfcw.org/event/october-2017-event/
LOCATION:Sorrento Italian Restaurant\, 415 Westheimer Road\, Suite 106\, Houston\, TX\, 77006\, United States
CATEGORIES:Monthly Meeting
ORGANIZER;CN="Mary Abshier":MAILTO:info@hfcw.org
GEO:29.7442261;-95.3868489
X-APPLE-STRUCTURED-LOCATION;VALUE=URI;X-ADDRESS=Sorrento Italian Restaurant 415 Westheimer Road Suite 106 Houston TX 77006 United States;X-APPLE-RADIUS=500;X-TITLE=415 Westheimer Road\, Suite 106:geo:-95.3868489,29.7442261
END:VEVENT
BEGIN:VEVENT
DTSTART;TZID=UTC:20170927T113000
DTEND;TZID=UTC:20170927T130000
DTSTAMP:20260424T084117
CREATED:20170611T172703Z
LAST-MODIFIED:20170804T001828Z
UID:10000073-1506511800-1506517200@hfcw.org
SUMMARY:Locked in Love ~ The Romance Continues: An Inside Look at the Interactive Art Project Inspired by Padlocks
DESCRIPTION:Lee will present a review of her WiVLA (Women in the Visual and Literary Arts) ECO Fund grant project “Locked in Love” inspired by the European custom where newly married couples attach an engraved padlock to a bridge railing and toss the key in the water below to symbolize their commitment to love each other always. \nIntrigued by the uniqueness of each padlock (and the sheer quantity of them)\, Lee decided they each need a ‘back story\,’ a love story\, to bring them to life. With no way to trace the original lovers\, Lee solicited love stories to pair with each padlock photo. \nHaving always loved to learn how couples met\, Lee has asked everyone and anyone to submit their own love story. The catch — each story must be no longer than 30 words. This is so each story will fit on the back of a lock detail photo\, printed the same size as ATCs (artist trading cards\, 2 1⁄2″ x 3 1/2″) to create our own Locked in Love (LIL) trading cards. \nLocked in Love  is an interactive project where each person who shares a story will receive a set of handmade LIL ATCs. Lee created a Facebook page to reach a wider audience for submissions and sharing stories. February\, the month of Love\, Lee hosted an exhibit and make-and-take where guests can read stories attached to a bridge sculpture\, create their own ‘locks’ and toss keys in the water. The romance continues because the Facebook page will remain active for anyone who wants to share a 30-word love story or submit photos of locks from around the world. \nSeveral HFCW members have contributed their stories\, and they will be shared during Lee’s presentation. \nLee Steiner is a native Texan and life-long artist. She is an accomplished bookbinder\, painter\, papermaker\, and essay writer as well as book collector\, junk re-purposer\, and “Finder of Things.” After a lengthy stretch as a painter\, during which she created commissioned works for corporate and commercial spaces\, public areas in hospitals and restaurants\, and private works for individuals with excellent taste\, Lee returned to her true love\, paper. Founded by Lee\, Domestic Papers is her book arts business. Her handmade books feature a “vintage vibe” due to growing up in a creative family of hand makers and antique junk collectors always on the look out for old inspiration. The name Domestic Papers comes from her love of everything paper and her travel to faraway places in search of cool finds for her studio\, always returning to her Texas home. \nLee makes custom map travel journals\, sketchbooks from library discards\, and the one-of-a-kind\, warm\, blank journals that writers love to get their hands on. She teaches bookbinding at local museums and through her own studio. She serves as president of the Houston Book Arts Guild and maintains a cozy studio in Art Square Studios on Commerce Street. Lee’s latest handmade books can be found at her online shop: http://www.DomesticPapers.etsy.com
URL:https://hfcw.org/event/locked-love-romance-continues-inside-look-interactive-art-project-inspired-padlocks/
LOCATION:Sorrento Italian Restaurant\, 415 Westheimer Road\, Suite 106\, Houston\, TX\, 77006\, United States
CATEGORIES:Monthly Meeting
ORGANIZER;CN="Mary Abshier":MAILTO:info@hfcw.org
GEO:29.7442261;-95.3868489
X-APPLE-STRUCTURED-LOCATION;VALUE=URI;X-ADDRESS=Sorrento Italian Restaurant 415 Westheimer Road Suite 106 Houston TX 77006 United States;X-APPLE-RADIUS=500;X-TITLE=415 Westheimer Road\, Suite 106:geo:-95.3868489,29.7442261
END:VEVENT
BEGIN:VEVENT
DTSTART;TZID=UTC:20170927T113000
DTEND;TZID=UTC:20170927T130000
DTSTAMP:20260424T084117
CREATED:20170611T172703Z
LAST-MODIFIED:20170611T172703Z
UID:10000074-1506511800-1506517200@hfcw.org
SUMMARY:Locked in Love ~ The Romance Continues: An Inside Look at the Interactive Art Project Inspired by Padlocks
DESCRIPTION:Lee will present a review of her WiVLA (Women in the Visual and Literary Arts) ECO Fund grant project “Locked in Love” inspired by the European custom where newly married couples attach an engraved padlock to a bridge railing and toss the key in the water below to symbolize their commitment to love each other always. \nIntrigued by the uniqueness of each padlock (and the sheer quantity of them)\, Lee decided they each need a ‘back story\,’ a love story\, to bring them to life. With no way to trace the original lovers\, Lee solicited love stories to pair with each padlock photo. \nHaving always loved to learn how couples met\, Lee has asked everyone and anyone to submit their own love story. The catch — each story must be no longer than 30 words. This is so each story will fit on the back of a lock detail photo\, printed the same size as ATCs (artist trading cards\, 2 1⁄2″ x 3 1/2″) to create our own Locked in Love (LIL) trading cards. \nLocked in Love  is an interactive project where each person who shares a story will receive a set of handmade LIL ATCs. Lee created a Facebook page to reach a wider audience for submissions and sharing stories. February\, the month of Love\, Lee hosted an exhibit and make-and-take where guests can read stories attached to a bridge sculpture\, create their own ‘locks’ and toss keys in the water. The romance continues because the Facebook page will remain active for anyone who wants to share a 30-word love story or submit photos of locks from around the world. \nSeveral HFCW members have contributed their stories\, and they will be shared during Lee’s presentation. \nLee Steiner is a native Texan and life-long artist. She is an accomplished bookbinder\, painter\, papermaker\, and essay writer as well as book collector\, junk re-purposer\, and “Finder of Things.” After a lengthy stretch as a painter\, during which she created commissioned works for corporate and commercial spaces\, public areas in hospitals and restaurants\, and private works for individuals with excellent taste\, Lee returned to her true love\, paper. Founded by Lee\, Domestic Papers is her book arts business. Her handmade books feature a “vintage vibe” due to growing up in a creative family of hand makers and antique junk collectors always on the look out for old inspiration. The name Domestic Papers comes from her love of everything paper and her travel to faraway places in search of cool finds for her studio\, always returning to her Texas home. \nLee makes custom map travel journals\, sketchbooks from library discards\, and the one-of-a-kind\, warm\, blank journals that writers love to get their hands on. She teaches bookbinding at local museums and through her own studio. She serves as president of the Houston Book Arts Guild and maintains a cozy studio in Art Square Studios on Commerce Street. Lee’s latest handmade books can be found at her online shop: http://www.DomesticPapers.etsy.com
URL:https://hfcw.org/event/locked-love-romance-continues-inside-look-interactive-art-project-inspired-padlocks-2/
LOCATION:Sorrento Italian Restaurant\, 415 Westheimer Road\, Suite 106\, Houston\, TX\, 77006\, United States
CATEGORIES:Monthly Meeting
ORGANIZER;CN="Mary Abshier":MAILTO:info@hfcw.org
GEO:29.7442261;-95.3868489
X-APPLE-STRUCTURED-LOCATION;VALUE=URI;X-ADDRESS=Sorrento Italian Restaurant 415 Westheimer Road Suite 106 Houston TX 77006 United States;X-APPLE-RADIUS=500;X-TITLE=415 Westheimer Road\, Suite 106:geo:-95.3868489,29.7442261
END:VEVENT
BEGIN:VEVENT
DTSTART;TZID=UTC:20170830T113000
DTEND;TZID=UTC:20170830T130000
DTSTAMP:20260424T084117
CREATED:20170611T172543Z
LAST-MODIFIED:20170611T172543Z
UID:10000072-1504092600-1504098000@hfcw.org
SUMMARY:The Glass Ceiling – Cracks and Chips\, But Still There
DESCRIPTION:CANCELLED DUE TO FLOODING.  Although some progress has been made with women reaching the uppermost levels of leadership in government and business\, we still have a long way to go before we have equitable representation at the table. You will learn of the facts and figures\, successes\, and failures\, and discover ways each of us can promote the idea that women can lead as well as men\, although perhaps with a different style. \n\nSPEAKER: \n\n\n\n\n\n\nJeanne Perdue received a BS degree in chemistry from the State University of New York at Albany. She started her career as a chemist at the Texaco Research Laboratories in Bellaire\, then became an oil and gas journalist for industry magazines. She is now a technical writer at Occidental Petroleum. A Distinguished Member of the Society of Petroleum Engineers\, Perdue has served as Gulf Coast Section Chair and an SPE Distinguished Lecturer. An active supporter of education\, she served on the Alief ISD school board\, the Alief Education Foundation\, and on industry advisory boards for HCC and UH.
URL:https://hfcw.org/event/glass-ceiling-cracks-chips-still-2/
LOCATION:Sorrento Italian Restaurant\, 415 Westheimer Road\, Suite 106\, Houston\, TX\, 77006\, United States
CATEGORIES:Monthly Meeting
ORGANIZER;CN="Mary Abshier":MAILTO:info@hfcw.org
GEO:29.7442261;-95.3868489
X-APPLE-STRUCTURED-LOCATION;VALUE=URI;X-ADDRESS=Sorrento Italian Restaurant 415 Westheimer Road Suite 106 Houston TX 77006 United States;X-APPLE-RADIUS=500;X-TITLE=415 Westheimer Road\, Suite 106:geo:-95.3868489,29.7442261
END:VEVENT
BEGIN:VEVENT
DTSTART;TZID=UTC:20170830T113000
DTEND;TZID=UTC:20170830T130000
DTSTAMP:20260424T084117
CREATED:20170611T172543Z
LAST-MODIFIED:20170828T192237Z
UID:10000080-1504092600-1504098000@hfcw.org
SUMMARY:The Glass Ceiling – Cracks and Chips\, But Still There
DESCRIPTION:CANCELLED DUE TO FLOODING.  Although some progress has been made with women reaching the uppermost levels of leadership in government and business\, we still have a long way to go before we have equitable representation at the table. You will learn of the facts and figures\, successes\, and failures\, and discover ways each of us can promote the idea that women can lead as well as men\, although perhaps with a different style. \n\nSPEAKER: \n\n\n\n\n\n\nJeanne Perdue received a BS degree in chemistry from the State University of New York at Albany. She started her career as a chemist at the Texaco Research Laboratories in Bellaire\, then became an oil and gas journalist for industry magazines. She is now a technical writer at Occidental Petroleum. A Distinguished Member of the Society of Petroleum Engineers\, Perdue has served as Gulf Coast Section Chair and an SPE Distinguished Lecturer. An active supporter of education\, she served on the Alief ISD school board\, the Alief Education Foundation\, and on industry advisory boards for HCC and UH.
URL:https://hfcw.org/event/glass-ceiling-cracks-chips-still/
LOCATION:Sorrento Italian Restaurant\, 415 Westheimer Road\, Suite 106\, Houston\, TX\, 77006\, United States
CATEGORIES:Monthly Meeting
ORGANIZER;CN="Mary Abshier":MAILTO:info@hfcw.org
GEO:29.7442261;-95.3868489
X-APPLE-STRUCTURED-LOCATION;VALUE=URI;X-ADDRESS=Sorrento Italian Restaurant 415 Westheimer Road Suite 106 Houston TX 77006 United States;X-APPLE-RADIUS=500;X-TITLE=415 Westheimer Road\, Suite 106:geo:-95.3868489,29.7442261
END:VEVENT
BEGIN:VEVENT
DTSTART;TZID=UTC:20170726T113000
DTEND;TZID=UTC:20170726T130000
DTSTAMP:20260424T084117
CREATED:20170611T172256Z
LAST-MODIFIED:20170728T195918Z
UID:10000078-1501068600-1501074000@hfcw.org
SUMMARY:Menil Collection Tour
DESCRIPTION:RSVP to Linda Walker no later than noon on Monday\, July 24 as the reservation must be made with BISTRO MENIL. Email Linda at lindalwalker@sbcglobal.net or call (281) 787-3015. \nWhen:\nWednesday\, July 26\, 2017\, 11:30am – 1:00pm. \nWhat:\nOur luncheon meeting will be followed by visit to the Menil Collection for those who wish to tour. \nWhere:\nMenil Bistro\, 1513 W Alabama St\, Houston\, TX 77006 (713) 904-3537. \nMark your calendars for our future 2017 meetings:\nWednesday July 26\, 2017\nWednesday August 30\, 2017\nWednesday September 27\, 2017\nWednesday October 25\, 2017\nWednesday November 29\, 2017\nFriday December 29\, 2017 \nFounded in 1974\, HFCW is an intimate\, nontraditional gathering of interesting\, involved\, multi-faceted women from varied business backgrounds\, sharing information and solutions\, meeting for more than 43 years.
URL:https://hfcw.org/event/july-2017-meeting/
CATEGORIES:Monthly Meeting
END:VEVENT
BEGIN:VEVENT
DTSTART;TZID=UTC:20170726T113000
DTEND;TZID=UTC:20170726T130000
DTSTAMP:20260424T084117
CREATED:20170611T172256Z
LAST-MODIFIED:20170611T172256Z
UID:10000079-1501068600-1501074000@hfcw.org
SUMMARY:Menil Collection Tour
DESCRIPTION:RSVP to Linda Walker no later than noon on Monday\, July 24 as the reservation must be made with BISTRO MENIL. Email Linda at lindalwalker@sbcglobal.net or call (281) 787-3015. \nWhen:\nWednesday\, July 26\, 2017\, 11:30am – 1:00pm. \nWhat:\nOur luncheon meeting will be followed by visit to the Menil Collection for those who wish to tour. \nWhere:\nMenil Bistro\, 1513 W Alabama St\, Houston\, TX 77006 (713) 904-3537. \nMark your calendars for our future 2017 meetings:\nWednesday July 26\, 2017\nWednesday August 30\, 2017\nWednesday September 27\, 2017\nWednesday October 25\, 2017\nWednesday November 29\, 2017\nFriday December 29\, 2017 \nFounded in 1974\, HFCW is an intimate\, nontraditional gathering of interesting\, involved\, multi-faceted women from varied business backgrounds\, sharing information and solutions\, meeting for more than 43 years.
URL:https://hfcw.org/event/july-2017-meeting-2/
CATEGORIES:Monthly Meeting
END:VEVENT
BEGIN:VEVENT
DTSTART;TZID=UTC:20170628T113000
DTEND;TZID=UTC:20170628T130000
DTSTAMP:20260424T084117
CREATED:20170607T182653Z
LAST-MODIFIED:20170728T200043Z
UID:10000076-1498649400-1498654800@hfcw.org
SUMMARY:Millennial Spirituality
DESCRIPTION:Location: Sorrento Italian Restaurant\nSpeaker/Program:\nMillennial Spirituality – Millennials (roughly 18-35 years of age) are more likely than generations preceding them to claim to be spiritual\, but not religious. Many Millennials aren’t that interested in traditional religious practices\, but they do have an appetite for spiritual questioning. \nMillennials are digital natives–the first generation raised on personal computing. They have grown up in a networked world where world cultures and economies are connected\, and they can reach out to people across the world with a click. One in five has a friend in a distant country. For them a cosmology of connection as a lived reality. They have also heard a lot about respecting others; they live in a world where gender\, sexual\, national and religious orientation is increasingly fluid. Ambiguity is routine. \nWhat does that mean? \nWhy has this come about? \nWhat does it mean for the rest of us? \nHelping others has been Rosemary Behrens’s mantra for as long as she can remember. In working with counseling issues\, she enjoys helping people to learn coping skills\, move past relationship issues\, and recognize their full potential. She assists clients who are coping with chronic pain to increase their understanding of the difference between acute pain and chronic pain. Her practice reaches individuals\, couples\, adolescents\, and children. She uses Cognitive-Behavioral\, Adlerian\, and Family Systems theories. Rosemary believes in addressing the whole person\, encompassing body\, mind\, and spirit. \nRosemary received her Masters of Arts in Counseling in 2008 and her license as a professional counselor from the state of Texas in 2011. She is currently working on a doctoral degree in Counselor Education.
URL:https://hfcw.org/event/millennial-spirituality/
LOCATION:Sorrento Italian Restaurant\, 415 Westheimer Road\, Suite 106\, Houston\, TX\, 77006\, United States
CATEGORIES:Monthly Meeting
ORGANIZER;CN="Mary Abshier":MAILTO:info@hfcw.org
GEO:29.7442261;-95.3868489
X-APPLE-STRUCTURED-LOCATION;VALUE=URI;X-ADDRESS=Sorrento Italian Restaurant 415 Westheimer Road Suite 106 Houston TX 77006 United States;X-APPLE-RADIUS=500;X-TITLE=415 Westheimer Road\, Suite 106:geo:-95.3868489,29.7442261
END:VEVENT
END:VCALENDAR