BEGIN:VCALENDAR
VERSION:2.0
PRODID:-//Houston Focus on Concerns for Women - ECPv6.15.17//NONSGML v1.0//EN
CALSCALE:GREGORIAN
METHOD:PUBLISH
X-WR-CALNAME:Houston Focus on Concerns for Women
X-ORIGINAL-URL:https://hfcw.org
X-WR-CALDESC:Events for Houston Focus on Concerns for Women
REFRESH-INTERVAL;VALUE=DURATION:PT1H
X-Robots-Tag:noindex
X-PUBLISHED-TTL:PT1H
BEGIN:VTIMEZONE
TZID:UTC
BEGIN:STANDARD
TZOFFSETFROM:+0000
TZOFFSETTO:+0000
TZNAME:UTC
DTSTART:20160101T000000
END:STANDARD
END:VTIMEZONE
BEGIN:VEVENT
DTSTART;TZID=UTC:20170628T113000
DTEND;TZID=UTC:20170628T130000
DTSTAMP:20260424T114634
CREATED:20170607T182653Z
LAST-MODIFIED:20170728T200043Z
UID:10000076-1498649400-1498654800@hfcw.org
SUMMARY:Millennial Spirituality
DESCRIPTION:Location: Sorrento Italian Restaurant\nSpeaker/Program:\nMillennial Spirituality – Millennials (roughly 18-35 years of age) are more likely than generations preceding them to claim to be spiritual\, but not religious. Many Millennials aren’t that interested in traditional religious practices\, but they do have an appetite for spiritual questioning. \nMillennials are digital natives–the first generation raised on personal computing. They have grown up in a networked world where world cultures and economies are connected\, and they can reach out to people across the world with a click. One in five has a friend in a distant country. For them a cosmology of connection as a lived reality. They have also heard a lot about respecting others; they live in a world where gender\, sexual\, national and religious orientation is increasingly fluid. Ambiguity is routine. \nWhat does that mean? \nWhy has this come about? \nWhat does it mean for the rest of us? \nHelping others has been Rosemary Behrens’s mantra for as long as she can remember. In working with counseling issues\, she enjoys helping people to learn coping skills\, move past relationship issues\, and recognize their full potential. She assists clients who are coping with chronic pain to increase their understanding of the difference between acute pain and chronic pain. Her practice reaches individuals\, couples\, adolescents\, and children. She uses Cognitive-Behavioral\, Adlerian\, and Family Systems theories. Rosemary believes in addressing the whole person\, encompassing body\, mind\, and spirit. \nRosemary received her Masters of Arts in Counseling in 2008 and her license as a professional counselor from the state of Texas in 2011. She is currently working on a doctoral degree in Counselor Education.
URL:https://hfcw.org/event/millennial-spirituality/
LOCATION:Sorrento Italian Restaurant\, 415 Westheimer Road\, Suite 106\, Houston\, TX\, 77006\, United States
CATEGORIES:Monthly Meeting
ORGANIZER;CN="Mary Abshier":MAILTO:info@hfcw.org
GEO:29.7442261;-95.3868489
X-APPLE-STRUCTURED-LOCATION;VALUE=URI;X-ADDRESS=Sorrento Italian Restaurant 415 Westheimer Road Suite 106 Houston TX 77006 United States;X-APPLE-RADIUS=500;X-TITLE=415 Westheimer Road\, Suite 106:geo:-95.3868489,29.7442261
END:VEVENT
END:VCALENDAR