BEGIN:VCALENDAR
VERSION:2.0
PRODID:-//Houston Focus on Concerns for Women - ECPv6.15.17//NONSGML v1.0//EN
CALSCALE:GREGORIAN
METHOD:PUBLISH
X-WR-CALNAME:Houston Focus on Concerns for Women
X-ORIGINAL-URL:https://hfcw.org
X-WR-CALDESC:Events for Houston Focus on Concerns for Women
REFRESH-INTERVAL;VALUE=DURATION:PT1H
X-Robots-Tag:noindex
X-PUBLISHED-TTL:PT1H
BEGIN:VTIMEZONE
TZID:UTC
BEGIN:STANDARD
TZOFFSETFROM:+0000
TZOFFSETTO:+0000
TZNAME:UTC
DTSTART:20210101T000000
END:STANDARD
END:VTIMEZONE
BEGIN:VEVENT
DTSTART;TZID=UTC:20250226T111500
DTEND;TZID=UTC:20250226T130000
DTSTAMP:20260424T022747
CREATED:20241219T190739Z
LAST-MODIFIED:20250221T165209Z
UID:10000123-1740568500-1740574800@hfcw.org
SUMMARY:Lafayette's Nations Guest Tour
DESCRIPTION:PROGRAM DETAILS\n			\n				\n				\n				\n				\n				You will discover what is happening on the amazing tour recreating Lafayette’s “Guest of the Nation” Tour. This program describes the original 1824-25 celebration of the 50th Anniversary of the American Revolution. Lafayette triumphantly returned to bid the country he loved\, “Farewell.” At the time\, he was 67 and the last surviving major general of the American Revolution. Both Congress and President James Monroe invited Lafayette hoping his visit might reignite patriotic fervor in a politically divided America. From August 15\, 1824 to September 9\, 1825\, Lafayette journeyed more than 6\,000 miles by carriage\, stagecoach\, canal barge\, and steamboat\, traveling to all of the then existing 24 states as well as “Washington City.” Everywhere he went\, Lafayette was met with adoration and accolades as an American hero. \nThis program mentions a few of the different locations that Lafayette visited with its primary focus on New Orleans. There is an audience participation section where we will get to select short stories related to Lafayette’s tour. \nOur Speaker Denise Bennett is serving as Co-Chair of the American Friends of Lafayette’s Bicentennial planning committee for New Orleans which will occur on April 9-13\, 2025. She has been involved in planning every aspect of the five- day long commemoration. \n			\n				\n				\n				\n				\n				ABOUT THE SPEAKER\n			\n			\n				\n				\n				\n				\n			\n				\n				\n				\n				\n				\n				\n				\n				\n				\n				\n				\n			\n			\n				\n				\n				\n				\n				\n				\n				\n				\n				\n				Denise Bennett enjoys doing historical first-person interpretations. She invests months of research into every component of the historical person she portrays. Currently\, Denise takes on eight persona’s\, one for the each of the four centuries of American history. She had the honor of performing Adrienne de Lafayette at the NSDAR Continental Congress and at the Michigan State DAR Conference. \nDenise Bennet is a second and third generation American\, who despite her especially recent immigrants\, can trace her lineage in America back to the American Revolution and to the third ship that arrived in Plymouth\, Massachusetts in 1623. \nAfter extensive research for each of their complex applications\, she has qualified for her membership in ten lineage societies. She actually had one of the most international applications. In her first three generations she had proof documents which required translations from German\, Spanish\, and old Persian. \nDenise currently serves as the President of the Daughters of the War of 1812 chapter\, President of the New England Women Colony\, and Second Vice Regent for the Lady Washington chapter\, NSDAR. \nShe is deeply involved in of the Louisiana Bicentennial Committee of the American Friends of Lafayette. Denise is co-chair of the commemoration of General Lafayette’s Farewell tour which took place in 1824-1825. She is working on every aspect of the five-day New Orleans and Baton Rouge celebration in April 2025.
URL:https://hfcw.org/event/lafayettes-nations-guest-tour/
LOCATION:Sorrento Italian Restaurant\, 415 Westheimer Road\, Suite 106\, Houston\, TX\, 77006\, United States
CATEGORIES:Monthly Meeting
ORGANIZER;CN="Mary Abshier":MAILTO:info@hfcw.org
GEO:29.7442261;-95.3868489
X-APPLE-STRUCTURED-LOCATION;VALUE=URI;X-ADDRESS=Sorrento Italian Restaurant 415 Westheimer Road Suite 106 Houston TX 77006 United States;X-APPLE-RADIUS=500;X-TITLE=415 Westheimer Road\, Suite 106:geo:-95.3868489,29.7442261
END:VEVENT
BEGIN:VEVENT
DTSTART;TZID=UTC:20250129T111500
DTEND;TZID=UTC:20250129T130000
DTSTAMP:20260424T022747
CREATED:20241219T184809Z
LAST-MODIFIED:20250205T231715Z
UID:10000122-1738149300-1738155600@hfcw.org
SUMMARY:You Are Never Too Old to Grow
DESCRIPTION:Read more
URL:https://hfcw.org/event/you-are-never-too-old-to-grow/
LOCATION:Sorrento Italian Restaurant\, 415 Westheimer Road\, Suite 106\, Houston\, TX\, 77006\, United States
CATEGORIES:Monthly Meeting
ORGANIZER;CN="Mary Abshier":MAILTO:info@hfcw.org
GEO:29.7442261;-95.3868489
X-APPLE-STRUCTURED-LOCATION;VALUE=URI;X-ADDRESS=Sorrento Italian Restaurant 415 Westheimer Road Suite 106 Houston TX 77006 United States;X-APPLE-RADIUS=500;X-TITLE=415 Westheimer Road\, Suite 106:geo:-95.3868489,29.7442261
END:VEVENT
BEGIN:VEVENT
DTSTART;TZID=UTC:20241204T111500
DTEND;TZID=UTC:20241204T130000
DTSTAMP:20260424T022747
CREATED:20231227T000932Z
LAST-MODIFIED:20241118T224916Z
UID:10000120-1733310900-1733317200@hfcw.org
SUMMARY:Old Gold Holiday Party
DESCRIPTION:Read more
URL:https://hfcw.org/event/old-gold-party/
LOCATION:Sorrento Italian Restaurant\, 415 Westheimer Road\, Suite 106\, Houston\, TX\, 77006\, United States
CATEGORIES:Celebration Gathering,Monthly Meeting
ORGANIZER;CN="Mary Abshier":MAILTO:info@hfcw.org
GEO:29.7442261;-95.3868489
X-APPLE-STRUCTURED-LOCATION;VALUE=URI;X-ADDRESS=Sorrento Italian Restaurant 415 Westheimer Road Suite 106 Houston TX 77006 United States;X-APPLE-RADIUS=500;X-TITLE=415 Westheimer Road\, Suite 106:geo:-95.3868489,29.7442261
END:VEVENT
BEGIN:VEVENT
DTSTART;TZID=UTC:20241127T111500
DTEND;TZID=UTC:20241127T130000
DTSTAMP:20260424T022747
CREATED:20240201T173240Z
LAST-MODIFIED:20240201T173643Z
UID:10000121-1732706100-1732712400@hfcw.org
SUMMARY:NO MONTHLY MEETING
DESCRIPTION:Read more
URL:https://hfcw.org/event/no-monthly-meeting/
LOCATION:Sorrento Italian Restaurant\, 415 Westheimer Road\, Suite 106\, Houston\, TX\, 77006\, United States
ORGANIZER;CN="Mary Abshier":MAILTO:info@hfcw.org
GEO:29.7442261;-95.3868489
X-APPLE-STRUCTURED-LOCATION;VALUE=URI;X-ADDRESS=Sorrento Italian Restaurant 415 Westheimer Road Suite 106 Houston TX 77006 United States;X-APPLE-RADIUS=500;X-TITLE=415 Westheimer Road\, Suite 106:geo:-95.3868489,29.7442261
END:VEVENT
BEGIN:VEVENT
DTSTART;TZID=UTC:20241030T111500
DTEND;TZID=UTC:20241030T130000
DTSTAMP:20260424T022747
CREATED:20231227T000439Z
LAST-MODIFIED:20240501T224507Z
UID:10000118-1730286900-1730293200@hfcw.org
SUMMARY:A Transfomative Life: From Medicine to Sculptor
DESCRIPTION:Read more
URL:https://hfcw.org/event/sculptor/
LOCATION:Sorrento Italian Restaurant\, 415 Westheimer Road\, Suite 106\, Houston\, TX\, 77006\, United States
CATEGORIES:Monthly Meeting
ORGANIZER;CN="Mary Abshier":MAILTO:info@hfcw.org
GEO:29.7442261;-95.3868489
X-APPLE-STRUCTURED-LOCATION;VALUE=URI;X-ADDRESS=Sorrento Italian Restaurant 415 Westheimer Road Suite 106 Houston TX 77006 United States;X-APPLE-RADIUS=500;X-TITLE=415 Westheimer Road\, Suite 106:geo:-95.3868489,29.7442261
END:VEVENT
BEGIN:VEVENT
DTSTART;TZID=UTC:20240925T111500
DTEND;TZID=UTC:20240925T130000
DTSTAMP:20260424T022747
CREATED:20231226T235825Z
LAST-MODIFIED:20240730T161918Z
UID:10000117-1727262900-1727269200@hfcw.org
SUMMARY:When Was the Last Time You Updated Your Will? Or Should You?
DESCRIPTION:Read more
URL:https://hfcw.org/event/updated_will/
LOCATION:Sorrento Italian Restaurant\, 415 Westheimer Road\, Suite 106\, Houston\, TX\, 77006\, United States
CATEGORIES:Monthly Meeting
ORGANIZER;CN="Mary Abshier":MAILTO:info@hfcw.org
GEO:29.7442261;-95.3868489
X-APPLE-STRUCTURED-LOCATION;VALUE=URI;X-ADDRESS=Sorrento Italian Restaurant 415 Westheimer Road Suite 106 Houston TX 77006 United States;X-APPLE-RADIUS=500;X-TITLE=415 Westheimer Road\, Suite 106:geo:-95.3868489,29.7442261
END:VEVENT
BEGIN:VEVENT
DTSTART;TZID=UTC:20240828T111500
DTEND;TZID=UTC:20240828T130000
DTSTAMP:20260424T022747
CREATED:20231226T235616Z
LAST-MODIFIED:20240826T161246Z
UID:10000116-1724843700-1724850000@hfcw.org
SUMMARY:Cruising Through Tight Spaces
DESCRIPTION:Read more
URL:https://hfcw.org/event/cruising-through-tight-spaces/
LOCATION:Sorrento Italian Restaurant\, 415 Westheimer Road\, Suite 106\, Houston\, TX\, 77006\, United States
CATEGORIES:Monthly Meeting
ORGANIZER;CN="Mary Abshier":MAILTO:info@hfcw.org
GEO:29.7442261;-95.3868489
X-APPLE-STRUCTURED-LOCATION;VALUE=URI;X-ADDRESS=Sorrento Italian Restaurant 415 Westheimer Road Suite 106 Houston TX 77006 United States;X-APPLE-RADIUS=500;X-TITLE=415 Westheimer Road\, Suite 106:geo:-95.3868489,29.7442261
END:VEVENT
BEGIN:VEVENT
DTSTART;TZID=UTC:20240731T111500
DTEND;TZID=UTC:20240731T130000
DTSTAMP:20260424T022747
CREATED:20231226T235320Z
LAST-MODIFIED:20240608T232132Z
UID:10000115-1722424500-1722430800@hfcw.org
SUMMARY:Be the Unicorn in Your World
DESCRIPTION:Read more
URL:https://hfcw.org/event/be-the-unicorn/
LOCATION:Sorrento Italian Restaurant\, 415 Westheimer Road\, Suite 106\, Houston\, TX\, 77006\, United States
CATEGORIES:Monthly Meeting
ORGANIZER;CN="Mary Abshier":MAILTO:info@hfcw.org
GEO:29.7442261;-95.3868489
X-APPLE-STRUCTURED-LOCATION;VALUE=URI;X-ADDRESS=Sorrento Italian Restaurant 415 Westheimer Road Suite 106 Houston TX 77006 United States;X-APPLE-RADIUS=500;X-TITLE=415 Westheimer Road\, Suite 106:geo:-95.3868489,29.7442261
END:VEVENT
BEGIN:VEVENT
DTSTART;TZID=UTC:20240626T111500
DTEND;TZID=UTC:20240626T130000
DTSTAMP:20260424T022747
CREATED:20231226T234947Z
LAST-MODIFIED:20240422T173014Z
UID:10000114-1719400500-1719406800@hfcw.org
SUMMARY:The Eyes Have It!
DESCRIPTION:Read more
URL:https://hfcw.org/event/the-eyes-have-it/
LOCATION:Sorrento Italian Restaurant\, 415 Westheimer Road\, Suite 106\, Houston\, TX\, 77006\, United States
CATEGORIES:Monthly Meeting
ORGANIZER;CN="Mary Abshier":MAILTO:info@hfcw.org
GEO:29.7442261;-95.3868489
X-APPLE-STRUCTURED-LOCATION;VALUE=URI;X-ADDRESS=Sorrento Italian Restaurant 415 Westheimer Road Suite 106 Houston TX 77006 United States;X-APPLE-RADIUS=500;X-TITLE=415 Westheimer Road\, Suite 106:geo:-95.3868489,29.7442261
END:VEVENT
BEGIN:VEVENT
DTSTART;TZID=UTC:20240529T111500
DTEND;TZID=UTC:20240529T130000
DTSTAMP:20260424T022747
CREATED:20231226T234739Z
LAST-MODIFIED:20240422T174549Z
UID:10000113-1716981300-1716987600@hfcw.org
SUMMARY:Feelings: Where Do Mine Hide?
DESCRIPTION:Read more
URL:https://hfcw.org/event/feelings/
LOCATION:Sorrento Italian Restaurant\, 415 Westheimer Road\, Suite 106\, Houston\, TX\, 77006\, United States
CATEGORIES:Monthly Meeting
ORGANIZER;CN="Mary Abshier":MAILTO:info@hfcw.org
GEO:29.7442261;-95.3868489
X-APPLE-STRUCTURED-LOCATION;VALUE=URI;X-ADDRESS=Sorrento Italian Restaurant 415 Westheimer Road Suite 106 Houston TX 77006 United States;X-APPLE-RADIUS=500;X-TITLE=415 Westheimer Road\, Suite 106:geo:-95.3868489,29.7442261
END:VEVENT
BEGIN:VEVENT
DTSTART;TZID=UTC:20240424T111500
DTEND;TZID=UTC:20240424T130000
DTSTAMP:20260424T022747
CREATED:20231226T234503Z
LAST-MODIFIED:20240327T010307Z
UID:10000112-1713957300-1713963600@hfcw.org
SUMMARY:The College Community Career's Success with Students
DESCRIPTION:Read more
URL:https://hfcw.org/event/the-college-community-careers-success-with-students/
LOCATION:Sorrento Italian Restaurant\, 415 Westheimer Road\, Suite 106\, Houston\, TX\, 77006\, United States
CATEGORIES:Monthly Meeting
ORGANIZER;CN="Mary Abshier":MAILTO:info@hfcw.org
GEO:29.7442261;-95.3868489
X-APPLE-STRUCTURED-LOCATION;VALUE=URI;X-ADDRESS=Sorrento Italian Restaurant 415 Westheimer Road Suite 106 Houston TX 77006 United States;X-APPLE-RADIUS=500;X-TITLE=415 Westheimer Road\, Suite 106:geo:-95.3868489,29.7442261
END:VEVENT
BEGIN:VEVENT
DTSTART;TZID=UTC:20240327T111500
DTEND;TZID=UTC:20240327T130000
DTSTAMP:20260424T022747
CREATED:20231226T233806Z
LAST-MODIFIED:20240131T223122Z
UID:10000110-1711538100-1711544400@hfcw.org
SUMMARY:How Simple It Is to Prepare What We Leave Behind
DESCRIPTION:Read more
URL:https://hfcw.org/event/whatweleavebehind/
LOCATION:Sorrento Italian Restaurant\, 415 Westheimer Road\, Suite 106\, Houston\, TX\, 77006\, United States
CATEGORIES:Monthly Meeting
ORGANIZER;CN="Mary Abshier":MAILTO:info@hfcw.org
GEO:29.7442261;-95.3868489
X-APPLE-STRUCTURED-LOCATION;VALUE=URI;X-ADDRESS=Sorrento Italian Restaurant 415 Westheimer Road Suite 106 Houston TX 77006 United States;X-APPLE-RADIUS=500;X-TITLE=415 Westheimer Road\, Suite 106:geo:-95.3868489,29.7442261
END:VEVENT
BEGIN:VEVENT
DTSTART;TZID=UTC:20240228T111500
DTEND;TZID=UTC:20240228T130000
DTSTAMP:20260424T022747
CREATED:20231226T233454Z
LAST-MODIFIED:20231227T002907Z
UID:10000109-1709118900-1709125200@hfcw.org
SUMMARY:Banish Procrastination and Supercharge Your Productivity
DESCRIPTION:Read more
URL:https://hfcw.org/event/banish-procrastination-and-supercharge-your-productivity/
LOCATION:Sorrento Italian Restaurant\, 415 Westheimer Road\, Suite 106\, Houston\, TX\, 77006\, United States
CATEGORIES:Monthly Meeting
ORGANIZER;CN="Mary Abshier":MAILTO:info@hfcw.org
GEO:29.7442261;-95.3868489
X-APPLE-STRUCTURED-LOCATION;VALUE=URI;X-ADDRESS=Sorrento Italian Restaurant 415 Westheimer Road Suite 106 Houston TX 77006 United States;X-APPLE-RADIUS=500;X-TITLE=415 Westheimer Road\, Suite 106:geo:-95.3868489,29.7442261
END:VEVENT
BEGIN:VEVENT
DTSTART;TZID=UTC:20240131T111500
DTEND;TZID=UTC:20240131T130000
DTSTAMP:20260424T022747
CREATED:20221101T041607Z
LAST-MODIFIED:20231227T001718Z
UID:10000107-1706699700-1706706000@hfcw.org
SUMMARY:Dine and Discover What You Never Knew About the White House China
DESCRIPTION:Read more
URL:https://hfcw.org/event/whitehousechina/
LOCATION:Sorrento Italian Restaurant\, 415 Westheimer Road\, Suite 106\, Houston\, TX\, 77006\, United States
CATEGORIES:Monthly Meeting
GEO:29.7442261;-95.3868489
X-APPLE-STRUCTURED-LOCATION;VALUE=URI;X-ADDRESS=Sorrento Italian Restaurant 415 Westheimer Road Suite 106 Houston TX 77006 United States;X-APPLE-RADIUS=500;X-TITLE=415 Westheimer Road\, Suite 106:geo:-95.3868489,29.7442261
END:VEVENT
BEGIN:VEVENT
DTSTART;TZID=UTC:20231227T111500
DTEND;TZID=UTC:20231227T130000
DTSTAMP:20260424T022747
CREATED:20221101T040217Z
LAST-MODIFIED:20231022T230718Z
UID:10000104-1703675700-1703682000@hfcw.org
SUMMARY:These Are a Few of Our Favorite Things
DESCRIPTION:Read more
URL:https://hfcw.org/event/favorite-things/
LOCATION:Sorrento Italian Restaurant\, 415 Westheimer Road\, Suite 106\, Houston\, TX\, 77006\, United States
CATEGORIES:Celebration Gathering,Monthly Meeting
GEO:29.7442261;-95.3868489
X-APPLE-STRUCTURED-LOCATION;VALUE=URI;X-ADDRESS=Sorrento Italian Restaurant 415 Westheimer Road Suite 106 Houston TX 77006 United States;X-APPLE-RADIUS=500;X-TITLE=415 Westheimer Road\, Suite 106:geo:-95.3868489,29.7442261
END:VEVENT
BEGIN:VEVENT
DTSTART;TZID=UTC:20231129T111500
DTEND;TZID=UTC:20231129T130000
DTSTAMP:20260424T022747
CREATED:20221101T041138Z
LAST-MODIFIED:20230825T204409Z
UID:10000106-1701256500-1701262800@hfcw.org
SUMMARY:Uncorking the Journey of a Female Sommelier
DESCRIPTION:Read more
URL:https://hfcw.org/event/female_sommelier/
LOCATION:Sorrento Italian Restaurant\, 415 Westheimer Road\, Suite 106\, Houston\, TX\, 77006\, United States
CATEGORIES:Monthly Meeting
GEO:29.7442261;-95.3868489
X-APPLE-STRUCTURED-LOCATION;VALUE=URI;X-ADDRESS=Sorrento Italian Restaurant 415 Westheimer Road Suite 106 Houston TX 77006 United States;X-APPLE-RADIUS=500;X-TITLE=415 Westheimer Road\, Suite 106:geo:-95.3868489,29.7442261
END:VEVENT
BEGIN:VEVENT
DTSTART;TZID=UTC:20231025T111500
DTEND;TZID=UTC:20231025T130000
DTSTAMP:20260424T022747
CREATED:20221101T040907Z
LAST-MODIFIED:20230725T234306Z
UID:10000105-1698232500-1698238800@hfcw.org
SUMMARY:A Conversation with One of the World’s Last Remaining Rare Map and Antique Print Sellers
DESCRIPTION:Read more
URL:https://hfcw.org/event/rare-maps-prints/
LOCATION:Sorrento Italian Restaurant\, 415 Westheimer Road\, Suite 106\, Houston\, TX\, 77006\, United States
CATEGORIES:Monthly Meeting
GEO:29.7442261;-95.3868489
X-APPLE-STRUCTURED-LOCATION;VALUE=URI;X-ADDRESS=Sorrento Italian Restaurant 415 Westheimer Road Suite 106 Houston TX 77006 United States;X-APPLE-RADIUS=500;X-TITLE=415 Westheimer Road\, Suite 106:geo:-95.3868489,29.7442261
END:VEVENT
BEGIN:VEVENT
DTSTART;TZID=UTC:20230927T111500
DTEND;TZID=UTC:20230927T130000
DTSTAMP:20260424T022747
CREATED:20221101T035723Z
LAST-MODIFIED:20230919T200019Z
UID:10000103-1695813300-1695819600@hfcw.org
SUMMARY:The Little-Known New World of Drugstore Cosmetics
DESCRIPTION:Read more
URL:https://hfcw.org/event/drugstore-cosmetics/
LOCATION:Sorrento Italian Restaurant\, 415 Westheimer Road\, Suite 106\, Houston\, TX\, 77006\, United States
CATEGORIES:Monthly Meeting
GEO:29.7442261;-95.3868489
X-APPLE-STRUCTURED-LOCATION;VALUE=URI;X-ADDRESS=Sorrento Italian Restaurant 415 Westheimer Road Suite 106 Houston TX 77006 United States;X-APPLE-RADIUS=500;X-TITLE=415 Westheimer Road\, Suite 106:geo:-95.3868489,29.7442261
END:VEVENT
BEGIN:VEVENT
DTSTART;TZID=UTC:20230830T111500
DTEND;TZID=UTC:20230830T130000
DTSTAMP:20260424T022747
CREATED:20230710T185155Z
LAST-MODIFIED:20230801T174812Z
UID:10000108-1693394100-1693400400@hfcw.org
SUMMARY:Experience Hand-Woven Rugs from Traditional Designs to Contemporary Art (You’ll also enjoy a catered Persian lunch at Pride of Persia Rug Company)
DESCRIPTION:Read more
URL:https://hfcw.org/event/rug-field-trip/
LOCATION:TX
CATEGORIES:Field Trip Meeting,Monthly Meeting
ORGANIZER;CN="Mary Abshier":MAILTO:info@hfcw.org
END:VEVENT
BEGIN:VEVENT
DTSTART;TZID=UTC:20230726T111500
DTEND;TZID=UTC:20230726T130000
DTSTAMP:20260424T022747
CREATED:20221101T034221Z
LAST-MODIFIED:20230717T170628Z
UID:10000101-1690370100-1690376400@hfcw.org
SUMMARY:Discover the Houston Grand Opera and Its Amazing Outreach
DESCRIPTION:Read more
URL:https://hfcw.org/event/monthly-meeting-6/
LOCATION:Sorrento Italian Restaurant\, 415 Westheimer Road\, Suite 106\, Houston\, TX\, 77006\, United States
CATEGORIES:Monthly Meeting
GEO:29.7442261;-95.3868489
X-APPLE-STRUCTURED-LOCATION;VALUE=URI;X-ADDRESS=Sorrento Italian Restaurant 415 Westheimer Road Suite 106 Houston TX 77006 United States;X-APPLE-RADIUS=500;X-TITLE=415 Westheimer Road\, Suite 106:geo:-95.3868489,29.7442261
END:VEVENT
BEGIN:VEVENT
DTSTART;TZID=UTC:20230628T111500
DTEND;TZID=UTC:20230628T130000
DTSTAMP:20260424T022747
CREATED:20220518T230742Z
LAST-MODIFIED:20230418T192757Z
UID:10000029-1687950900-1687957200@hfcw.org
SUMMARY:Mysteries of Mud: A Short History of Clay
DESCRIPTION:Read more
URL:https://hfcw.org/event/mysteries-of-mud/
LOCATION:Sorrento Italian Restaurant\, 415 Westheimer Road\, Suite 106\, Houston\, TX\, 77006\, United States
CATEGORIES:Monthly Meeting
GEO:29.7442261;-95.3868489
X-APPLE-STRUCTURED-LOCATION;VALUE=URI;X-ADDRESS=Sorrento Italian Restaurant 415 Westheimer Road Suite 106 Houston TX 77006 United States;X-APPLE-RADIUS=500;X-TITLE=415 Westheimer Road\, Suite 106:geo:-95.3868489,29.7442261
END:VEVENT
BEGIN:VEVENT
DTSTART;TZID=UTC:20230531T111500
DTEND;TZID=UTC:20230531T130000
DTSTAMP:20260424T022747
CREATED:20220518T231429Z
LAST-MODIFIED:20230418T191611Z
UID:10000030-1685531700-1685538000@hfcw.org
SUMMARY:Discover the Miracle of Journaling
DESCRIPTION:Read more
URL:https://hfcw.org/event/journaling/
LOCATION:Sorrento Italian Restaurant\, 415 Westheimer Road\, Suite 106\, Houston\, TX\, 77006\, United States
CATEGORIES:Monthly Meeting
GEO:29.7442261;-95.3868489
X-APPLE-STRUCTURED-LOCATION;VALUE=URI;X-ADDRESS=Sorrento Italian Restaurant 415 Westheimer Road Suite 106 Houston TX 77006 United States;X-APPLE-RADIUS=500;X-TITLE=415 Westheimer Road\, Suite 106:geo:-95.3868489,29.7442261
END:VEVENT
BEGIN:VEVENT
DTSTART;TZID=UTC:20230426T111500
DTEND;TZID=UTC:20230426T130000
DTSTAMP:20260424T022747
CREATED:20220518T230131Z
LAST-MODIFIED:20230418T192513Z
UID:10000028-1682507700-1682514000@hfcw.org
SUMMARY:Downsizing: Be Careful What You Keep
DESCRIPTION:Read more
URL:https://hfcw.org/event/downsizing-careful-what-you-keep/
LOCATION:Sorrento Italian Restaurant\, 415 Westheimer Road\, Suite 106\, Houston\, TX\, 77006\, United States
CATEGORIES:Monthly Meeting
GEO:29.7442261;-95.3868489
X-APPLE-STRUCTURED-LOCATION;VALUE=URI;X-ADDRESS=Sorrento Italian Restaurant 415 Westheimer Road Suite 106 Houston TX 77006 United States;X-APPLE-RADIUS=500;X-TITLE=415 Westheimer Road\, Suite 106:geo:-95.3868489,29.7442261
END:VEVENT
BEGIN:VEVENT
DTSTART;TZID=UTC:20230418T193614
DTEND;TZID=UTC:20230418T193614
DTSTAMP:20260424T022747
CREATED:20221101T034520Z
LAST-MODIFIED:20230418T193614Z
UID:10000102-1681846574-1681846574@hfcw.org
SUMMARY:Experience Handwoven Rugs from Traditional Designs to Contemporary Art
DESCRIPTION:Read more
URL:https://hfcw.org/event/handwoven-rugs-2/
LOCATION:TX
CATEGORIES:Field Trip Meeting,Monthly Meeting
END:VEVENT
BEGIN:VEVENT
DTSTART;TZID=UTC:20230329T111500
DTEND;TZID=UTC:20230329T130000
DTSTAMP:20260424T022747
CREATED:20220509T164803Z
LAST-MODIFIED:20221130T041806Z
UID:10000027-1680088500-1680094800@hfcw.org
SUMMARY:Do You Know What You Have?
DESCRIPTION:Read more
URL:https://hfcw.org/event/knowwhatyouhave/
LOCATION:Sorrento Italian Restaurant\, 415 Westheimer Road\, Suite 106\, Houston\, TX\, 77006\, United States
CATEGORIES:Monthly Meeting
GEO:29.7442261;-95.3868489
X-APPLE-STRUCTURED-LOCATION;VALUE=URI;X-ADDRESS=Sorrento Italian Restaurant 415 Westheimer Road Suite 106 Houston TX 77006 United States;X-APPLE-RADIUS=500;X-TITLE=415 Westheimer Road\, Suite 106:geo:-95.3868489,29.7442261
END:VEVENT
BEGIN:VEVENT
DTSTART;TZID=UTC:20230222T111500
DTEND;TZID=UTC:20230222T130000
DTSTAMP:20260424T022747
CREATED:20220509T164600Z
LAST-MODIFIED:20221130T041446Z
UID:10000026-1677064500-1677070800@hfcw.org
SUMMARY:Settle the Differences in the Family Living Inside
DESCRIPTION:Read more
URL:https://hfcw.org/event/family/
LOCATION:Sorrento Italian Restaurant\, 415 Westheimer Road\, Suite 106\, Houston\, TX\, 77006\, United States
CATEGORIES:Monthly Meeting
GEO:29.7442261;-95.3868489
X-APPLE-STRUCTURED-LOCATION;VALUE=URI;X-ADDRESS=Sorrento Italian Restaurant 415 Westheimer Road Suite 106 Houston TX 77006 United States;X-APPLE-RADIUS=500;X-TITLE=415 Westheimer Road\, Suite 106:geo:-95.3868489,29.7442261
END:VEVENT
BEGIN:VEVENT
DTSTART;TZID=UTC:20230125T111500
DTEND;TZID=UTC:20230125T130000
DTSTAMP:20260424T022747
CREATED:20220509T164432Z
LAST-MODIFIED:20221218T161816Z
UID:10000025-1674645300-1674651600@hfcw.org
SUMMARY:First Ladies of the United States of America and Their Cookies
DESCRIPTION:Read more
URL:https://hfcw.org/event/first-ladies-cookies/
LOCATION:Sorrento Italian Restaurant\, 415 Westheimer Road\, Suite 106\, Houston\, TX\, 77006\, United States
CATEGORIES:Monthly Meeting
GEO:29.7442261;-95.3868489
X-APPLE-STRUCTURED-LOCATION;VALUE=URI;X-ADDRESS=Sorrento Italian Restaurant 415 Westheimer Road Suite 106 Houston TX 77006 United States;X-APPLE-RADIUS=500;X-TITLE=415 Westheimer Road\, Suite 106:geo:-95.3868489,29.7442261
END:VEVENT
BEGIN:VEVENT
DTSTART;TZID=UTC:20221228T111500
DTEND;TZID=UTC:20221228T130000
DTSTAMP:20260424T022747
CREATED:20210823T124924Z
LAST-MODIFIED:20221130T164145Z
UID:10000024-1672226100-1672232400@hfcw.org
SUMMARY:Discovering Your Touchstones for a Fulfilling 2023
DESCRIPTION:Read more
URL:https://hfcw.org/event/touchstones/
LOCATION:Sorrento Italian Restaurant\, 415 Westheimer Road\, Suite 106\, Houston\, TX\, 77006\, United States
CATEGORIES:Celebration Gathering,Monthly Meeting
GEO:29.7442261;-95.3868489
X-APPLE-STRUCTURED-LOCATION;VALUE=URI;X-ADDRESS=Sorrento Italian Restaurant 415 Westheimer Road Suite 106 Houston TX 77006 United States;X-APPLE-RADIUS=500;X-TITLE=415 Westheimer Road\, Suite 106:geo:-95.3868489,29.7442261
END:VEVENT
BEGIN:VEVENT
DTSTART;TZID=UTC:20221130T111500
DTEND;TZID=UTC:20221130T130000
DTSTAMP:20260424T022747
CREATED:20210823T124750Z
LAST-MODIFIED:20221101T032648Z
UID:10000023-1669806900-1669813200@hfcw.org
SUMMARY:Federation of Houston Professional Women and What It Brings You
DESCRIPTION:Read more
URL:https://hfcw.org/event/holiday-monthly-meeting/
LOCATION:Sorrento Italian Restaurant\, 415 Westheimer Road\, Suite 106\, Houston\, TX\, 77006\, United States
CATEGORIES:Monthly Meeting
GEO:29.7442261;-95.3868489
X-APPLE-STRUCTURED-LOCATION;VALUE=URI;X-ADDRESS=Sorrento Italian Restaurant 415 Westheimer Road Suite 106 Houston TX 77006 United States;X-APPLE-RADIUS=500;X-TITLE=415 Westheimer Road\, Suite 106:geo:-95.3868489,29.7442261
END:VEVENT
BEGIN:VEVENT
DTSTART;TZID=UTC:20221026T111500
DTEND;TZID=UTC:20221026T130000
DTSTAMP:20260424T022747
CREATED:20210823T124623Z
LAST-MODIFIED:20220509T163600Z
UID:10000022-1666782900-1666789200@hfcw.org
SUMMARY:History Lovers Come Face to Face with a Fearless Woman
DESCRIPTION:Read more
URL:https://hfcw.org/event/priscilla-alden/
LOCATION:Sorrento Italian Restaurant\, 415 Westheimer Road\, Suite 106\, Houston\, TX\, 77006\, United States
CATEGORIES:Monthly Meeting
GEO:29.7442261;-95.3868489
X-APPLE-STRUCTURED-LOCATION;VALUE=URI;X-ADDRESS=Sorrento Italian Restaurant 415 Westheimer Road Suite 106 Houston TX 77006 United States;X-APPLE-RADIUS=500;X-TITLE=415 Westheimer Road\, Suite 106:geo:-95.3868489,29.7442261
END:VEVENT
END:VCALENDAR