BEGIN:VCALENDAR
VERSION:2.0
PRODID:-//Houston Focus on Concerns for Women - ECPv6.15.17//NONSGML v1.0//EN
CALSCALE:GREGORIAN
METHOD:PUBLISH
X-ORIGINAL-URL:https://hfcw.org
X-WR-CALDESC:Events for Houston Focus on Concerns for Women
REFRESH-INTERVAL;VALUE=DURATION:PT1H
X-Robots-Tag:noindex
X-PUBLISHED-TTL:PT1H
BEGIN:VTIMEZONE
TZID:UTC
BEGIN:STANDARD
TZOFFSETFROM:+0000
TZOFFSETTO:+0000
TZNAME:UTC
DTSTART:20230101T000000
END:STANDARD
END:VTIMEZONE
BEGIN:VEVENT
DTSTART;TZID=UTC:20240828T111500
DTEND;TZID=UTC:20240828T130000
DTSTAMP:20260424T143205
CREATED:20231226T235616Z
LAST-MODIFIED:20240826T161246Z
UID:10000116-1724843700-1724850000@hfcw.org
SUMMARY:Cruising Through Tight Spaces
DESCRIPTION:PROGRAM \nThe Creation of the Panama Canal 1870-1914 \nTake a trip through the 40 years it took to conceive of and build the Panama Canal. Most countries wanted this highway of water to be built in Central America\, but Panama was not the first choice. To oversee the project even the United States was not the first choice. \nThis program will reveal the immense challenges faced in the jungle during the building stage. These trials came with considerable human sacrifice. \nYou will be amazed at the story of the engineering phenomenon we call the Panama Canal. You will also learn the ins and outs of taking a full trip cruising through the entire 51 miles of the canal from the Atlantic Ocean to the Pacific Ocean. Also you’ll have an inside look as you view photos taken from the cruise ship balcony. \nSPEAKER \n\n\n\n\n\n\n\n\n  \nCarolyn Tucker Myers is originally from Memphis\, Tennessee. Her family moved to a suburb of Detroit\, Michigan where her father worked with General Motors. After five years of snow and ice\, he moved the family to Houston. In 1951\, her parents opened a hardware store in Pasadena. \nCarolyn graduated from Pasadena High School in 1955 and the University of Texas\, Austin\, in 1959\, and married shortly thereafter. The couple were stationed in Morocco where her husband spent two years in the Air Force. They returned to Coleman in central West Texas where she taught elementary school for six years. \nIn 1977\, she moved back to Pasadena and joined the family business where she \nworked for 34 years. After 60 years in business\, Tucker Hardware was closed in 2011. \nA previous member and international secretary of Epsilon Sigma Alpha Sorority\, Carolyn also served as president of Soroptimist International of Pasadena\, a service organization. She was recognized as a Woman of Excellence at the 2000 Federation of Houston Professional Women Gala. She feels honored to be recently accepted into the DAR\, Daughters of the American Revolution\, Lady Washington Houston chapter. \nCarolyn became interested in presidential libraries when she attended the annual hardware market in Atlanta\, Georgia with her mother. They toured the library of President James E. “Jimmy” Carter. Thus began her mother’s collection of presidential plates\, which Carolyn now proudly possesses. The other presidential libraries she has visited include: John F. Kennedy\, Lyndon B. Johnson\, George H.W. Bush\, and George W. Bush and found each different and intriguing.\n\n\n\n 
URL:https://hfcw.org/event/cruising-through-tight-spaces/
LOCATION:Sorrento Italian Restaurant\, 415 Westheimer Road\, Suite 106\, Houston\, TX\, 77006\, United States
CATEGORIES:Monthly Meeting
ORGANIZER;CN="Mary Abshier":MAILTO:info@hfcw.org
GEO:29.7442261;-95.3868489
X-APPLE-STRUCTURED-LOCATION;VALUE=URI;X-ADDRESS=Sorrento Italian Restaurant 415 Westheimer Road Suite 106 Houston TX 77006 United States;X-APPLE-RADIUS=500;X-TITLE=415 Westheimer Road\, Suite 106:geo:-95.3868489,29.7442261
END:VEVENT
END:VCALENDAR