BEGIN:VCALENDAR
VERSION:2.0
PRODID:-//Houston Focus on Concerns for Women - ECPv6.15.17//NONSGML v1.0//EN
CALSCALE:GREGORIAN
METHOD:PUBLISH
X-ORIGINAL-URL:https://hfcw.org
X-WR-CALDESC:Events for Houston Focus on Concerns for Women
REFRESH-INTERVAL;VALUE=DURATION:PT1H
X-Robots-Tag:noindex
X-PUBLISHED-TTL:PT1H
BEGIN:VTIMEZONE
TZID:UTC
BEGIN:STANDARD
TZOFFSETFROM:+0000
TZOFFSETTO:+0000
TZNAME:UTC
DTSTART:20250101T000000
END:STANDARD
END:VTIMEZONE
BEGIN:VEVENT
DTSTART;TZID=UTC:20260225T111500
DTEND;TZID=UTC:20260225T130000
DTSTAMP:20260423T145811
CREATED:20260125T204235Z
LAST-MODIFIED:20260203T205324Z
UID:10000136-1772018100-1772024400@hfcw.org
SUMMARY:Treat Yourself to Simple Pleasures
DESCRIPTION:Program \n			\n				\n				\n				\n				\n				We are commanded at every turn to pamper one’s self. Self-care\, self-care; everywhere. The best definition of self-care is actually found by recognizing the simple pleasurers around us. You’ll discover self-care brings you comradery\, support\, wisdom\, laughter\, sympathy\, empathy\, and joy. You’ll come away after learning how to fold a little folder. Also\, you’ll receive some pocket-sized lists of simple pleasures. \nTreat yourself to some self-care on February 25. \n			\n				\n				\n				\n				\n				About The Speaker\n			\n			\n				\n				\n				\n				\n			\n				\n				\n				\n				\n				\n				\n				\n				\n				\n				\n				\n			\n			\n				\n				\n				\n				\n				\n				\n				\n				\n				\n				Leigh Owen is a connector. She is passionate about matching people with other people\, organizations\, and resources. She is a past president of the Federation of Houston Professional Women\, Houston Focus on Concerns for Women\, and the FHPW Educational Foundation. She served 20 years on the UH Friends of Women’s Studies board and is a zealous supporter the UH Rare Books Collections. \nLeigh is a member of the Houston Book Arts Guild\, Houston Calligraphy Guild\, and the Houston Visual Journalers. She is a lifetime member of Women in the Visual and Literary Arts and chaired their advisory board. She loves collage\, journals daily\, and writes personal essays and haiku. \nShe is a new member of the Lady Washington chapter\, the largest DAR (Daughters of the American Revolution) chapter in the world. She is a new member of the United Daughters of the Confederacy. Her genealogy studies revealed that her great\, great\, great uncle William E. Summers fought and died at the Alamo. \nA graduate of Stephen F. Austin State University\, her first job was in book publishing and it became her lifelong career. Leigh has three decades of book publishing and marketing experience. She began by designing books and handling their printing for Gulf Publishing Company then focused on marketing books and educational training for Vickie Milazzo Institute. \nLeigh and Tim\, both native Texans\, live in a brick bungalow in the Houston Heights. Avid birders\, they love traveling Texas back roads. Their marriage has been celebrated together at the Menger Hotel in San Antonio for 44 years in an unbroken line. \nLeigh is often told\, “You know things!”
URL:https://hfcw.org/event/simple_pleasures/
LOCATION:Sorrento Italian Restaurant\, 415 Westheimer Road\, Suite 106\, Houston\, TX\, 77006\, United States
CATEGORIES:Monthly Meeting
ORGANIZER;CN="Mary Abshier":MAILTO:info@hfcw.org
GEO:29.7442261;-95.3868489
X-APPLE-STRUCTURED-LOCATION;VALUE=URI;X-ADDRESS=Sorrento Italian Restaurant 415 Westheimer Road Suite 106 Houston TX 77006 United States;X-APPLE-RADIUS=500;X-TITLE=415 Westheimer Road\, Suite 106:geo:-95.3868489,29.7442261
END:VEVENT
END:VCALENDAR